BEGIN:VCALENDAR
VERSION:2.0
PRODID:-//Asso&#039;Lumière - ECPv6.0.10//NONSGML v1.0//EN
CALSCALE:GREGORIAN
METHOD:PUBLISH
X-ORIGINAL-URL:https://www.asso-lumiere.net
X-WR-CALDESC:évènements pour Asso&#039;Lumière
REFRESH-INTERVAL;VALUE=DURATION:PT1H
X-Robots-Tag:noindex
X-PUBLISHED-TTL:PT1H
BEGIN:VTIMEZONE
TZID:Europe/Paris
BEGIN:DAYLIGHT
TZOFFSETFROM:+0100
TZOFFSETTO:+0200
TZNAME:CEST
DTSTART:20190331T010000
END:DAYLIGHT
BEGIN:STANDARD
TZOFFSETFROM:+0200
TZOFFSETTO:+0100
TZNAME:CET
DTSTART:20191027T010000
END:STANDARD
END:VTIMEZONE
BEGIN:VEVENT
DTSTART;TZID=Europe/Paris:20190321T193000
DTEND;TZID=Europe/Paris:20190321T213000
DTSTAMP:20260424T172140
CREATED:20190319T141050Z
LAST-MODIFIED:20190319T141836Z
UID:3066-1553196600-1553203800@www.asso-lumiere.net
SUMMARY:Découverte du Plan Lumière de Lyon à vélo
DESCRIPTION:L’Asso’Lumière organise une sortie nocturne pour faire découvrir le plan lumière de Lyon aux apprentis de la licence professionnelle Conception et Management en Eclairage de l’iaeLyon.\nPour cette visite\, les étudiants enfourcherons des vélos à assistance électrique\, mode déplacement à la fois original\, ludique et éco-responsable. Au cours d’une halte place Rouville (Lyon 1er)\, les étudiants pourront admirer une vue panoramique sur les monuments éclairés.
URL:https://www.asso-lumiere.net/evenement/decouverte-du-plan-lumiere-de-lyon-a-velo/
LOCATION:Comhic\, 7 quai Romain Rolland\, Lyon\, 69005\, France
CATEGORIES:Vie associative
ATTACH;FMTTYPE=image/png:https://www.asso-lumiere.net/wp-content/uploads/2019/03/Capture-sortie-vélo-e1553005102766.png
ORGANIZER;CN="Asso%27Lumi%C3%A8re":MAILTO:info@asso-lumiere.net
END:VEVENT
END:VCALENDAR